BEGIN:VCALENDAR
VERSION:2.0
PRODID:-//Müli Deisswil - ECPv6.15.13.1//NONSGML v1.0//EN
CALSCALE:GREGORIAN
METHOD:PUBLISH
X-ORIGINAL-URL:https://mueli-deisswil.ch
X-WR-CALDESC:Veranstaltungen für Müli Deisswil
REFRESH-INTERVAL;VALUE=DURATION:PT1H
X-Robots-Tag:noindex
X-PUBLISHED-TTL:PT1H
BEGIN:VTIMEZONE
TZID:Europe/Zurich
BEGIN:DAYLIGHT
TZOFFSETFROM:+0100
TZOFFSETTO:+0200
TZNAME:CEST
DTSTART:20250330T010000
END:DAYLIGHT
BEGIN:STANDARD
TZOFFSETFROM:+0200
TZOFFSETTO:+0100
TZNAME:CET
DTSTART:20251026T010000
END:STANDARD
BEGIN:DAYLIGHT
TZOFFSETFROM:+0100
TZOFFSETTO:+0200
TZNAME:CEST
DTSTART:20260329T010000
END:DAYLIGHT
BEGIN:STANDARD
TZOFFSETFROM:+0200
TZOFFSETTO:+0100
TZNAME:CET
DTSTART:20261025T010000
END:STANDARD
BEGIN:DAYLIGHT
TZOFFSETFROM:+0100
TZOFFSETTO:+0200
TZNAME:CEST
DTSTART:20270328T010000
END:DAYLIGHT
BEGIN:STANDARD
TZOFFSETFROM:+0200
TZOFFSETTO:+0100
TZNAME:CET
DTSTART:20271031T010000
END:STANDARD
END:VTIMEZONE
BEGIN:VEVENT
DTSTART;TZID=Europe/Zurich:20261031T210000
DTEND;TZID=Europe/Zurich:20261101T023000
DTSTAMP:20260425T173359
CREATED:20260307T080923Z
LAST-MODIFIED:20260330T143256Z
UID:2011-1793480400-1793500200@mueli-deisswil.ch
SUMMARY:Halloween-Party
DESCRIPTION:Auch in diesem Jahr verwandelt sich unsere Müli wieder in ein schaurig-schönes Geisterhaus. Tauche ein in eine atemberaubende Halloween-Atmosphäre\, geniesse unser vielfältiges Bar-Angebot und feiere zu den Beats unserer DJs bis tief in die Nacht.\n\nWir sind gespannt auf eure kreativen und ausgefallenen Kostüme! Beim heiss begehrten Kostümwettbewerb warten auf die besten Verkleidungen grossartige Preise. Allerdings sind auch alle Kostüm-Muffel herzlich willkommen.\n\nab 16 Jahren
URL:https://mueli-deisswil.ch/event/halloween-party-2/
LOCATION:BE
END:VEVENT
BEGIN:VEVENT
DTSTART;TZID=Europe/Zurich:20261107T190000
DTEND;TZID=Europe/Zurich:20261107T230000
DTSTAMP:20260425T173359
CREATED:20260307T081016Z
LAST-MODIFIED:20260307T081016Z
UID:2013-1794078000-1794092400@mueli-deisswil.ch
SUMMARY:PubQuiz vol. 9
DESCRIPTION:
URL:https://mueli-deisswil.ch/event/pubquiz-vol-9/
LOCATION:BE
END:VEVENT
BEGIN:VEVENT
DTSTART;TZID=Europe/Zurich:20261108T090000
DTEND;TZID=Europe/Zurich:20261108T170000
DTSTAMP:20260425T173359
CREATED:20260307T081044Z
LAST-MODIFIED:20260331T095955Z
UID:2015-1794128400-1794157200@mueli-deisswil.ch
SUMMARY:Müli Flohmi
DESCRIPTION:Platzt Ihr Kleiderschrank schier aus allen Nähten? Haben Sie viele Sachen zu Hause welche Sie nicht mehr benötigen und doch noch zu gut sind für den Abfall? Dinge welche ein zweites Zuhause\, ein zweites Leben verdienen? Dann miste aus und miete einen Stand am Müli Flohmi! Buch deinen Stand mit einem Mail an flohmi.ir.mueli@gmail.ch\, die Standmiete beträgt 15 CHF. Wir bieten einen Tisch und Barbetrieb. Hast du Lust an einem Samstagmorgen gemütlich mit einem Kaffee und einem Gebäck in der Hand\, beim durchstöbern verschiedener Stände zu starten? Dann würden wir empfehlen den 19.09 in die Agenda einzutragen! Wir freuen uns auf Ihren Besuch! \n  \n 
URL:https://mueli-deisswil.ch/event/mueli-flohmi/
LOCATION:BE
END:VEVENT
BEGIN:VEVENT
DTSTART;TZID=Europe/Zurich:20261121T140000
DTEND;TZID=Europe/Zurich:20261121T170000
DTSTAMP:20260425T173359
CREATED:20260307T081115Z
LAST-MODIFIED:20260307T081115Z
UID:2017-1795269600-1795280400@mueli-deisswil.ch
SUMMARY:Adventskranzworkshop
DESCRIPTION:
URL:https://mueli-deisswil.ch/event/adventskranzworkshop/
LOCATION:BE
END:VEVENT
BEGIN:VEVENT
DTSTART;TZID=Europe/Zurich:20261121T210000
DTEND;TZID=Europe/Zurich:20261122T020000
DTSTAMP:20260425T173359
CREATED:20260307T081155Z
LAST-MODIFIED:20260307T081155Z
UID:2019-1795294800-1795312800@mueli-deisswil.ch
SUMMARY:B.R.E.D. VI
DESCRIPTION:
URL:https://mueli-deisswil.ch/event/b-r-e-d-vi/
LOCATION:BE
END:VEVENT
BEGIN:VEVENT
DTSTART;TZID=Europe/Zurich:20261128T220000
DTEND;TZID=Europe/Zurich:20261129T040000
DTSTAMP:20260425T173359
CREATED:20260307T081251Z
LAST-MODIFIED:20260307T081251Z
UID:2021-1795903200-1795924800@mueli-deisswil.ch
SUMMARY:Troummüli V
DESCRIPTION:
URL:https://mueli-deisswil.ch/event/troummueli-v/
LOCATION:BE
END:VEVENT
BEGIN:VEVENT
DTSTART;TZID=Europe/Zurich:20261209T140000
DTEND;TZID=Europe/Zurich:20261209T170000
DTSTAMP:20260425T173359
CREATED:20260331T193233Z
LAST-MODIFIED:20260331T193303Z
UID:2068-1796824800-1796835600@mueli-deisswil.ch
SUMMARY:Gschichtli Nami - 9.12.26
DESCRIPTION:Die Müli Deisswil bietet vier Mal ein 3-stündiges Programm an für Kinder im Kindergarten- und Grundschulalter. Die Kinder werden in dieser Zeit kostenlos betreut und können in die magische Welt verschiedener Geschichten und Märchen eintauchen. Von Theater bis zum Backplausch ist für alle etwas dabei! Wir bitten um eine verbindliche Online-Anmeldung bis am Vortag um 18:00 Uhr. \nThema: Pfefferkuchen backen mit Geschichten und Figuren von Astrid Lindgren \nGschitli-Nami Flyer inkl. QR Code zur Anmeldung \nLink zur Online-Anmeldung über Google Forms
URL:https://mueli-deisswil.ch/event/gschichtli-nami-9-12-26/
LOCATION:Müli Deisswil\, Bernstrasse 14\, Stettlen\, BE\, 3066\, Schweiz
END:VEVENT
END:VCALENDAR